BEGIN:VCALENDAR
VERSION:2.0
PRODID:-//Inside + Out Upstate NY - ECPv6.15.18//NONSGML v1.0//EN
CALSCALE:GREGORIAN
METHOD:PUBLISH
X-ORIGINAL-URL:https://staging.insideandoutupstateny.com
X-WR-CALDESC:Events for Inside + Out Upstate NY
REFRESH-INTERVAL;VALUE=DURATION:PT1H
X-Robots-Tag:noindex
X-PUBLISHED-TTL:PT1H
BEGIN:VTIMEZONE
TZID:America/New_York
BEGIN:DAYLIGHT
TZOFFSETFROM:-0500
TZOFFSETTO:-0400
TZNAME:EDT
DTSTART:20240310T070000
END:DAYLIGHT
BEGIN:STANDARD
TZOFFSETFROM:-0400
TZOFFSETTO:-0500
TZNAME:EST
DTSTART:20241103T060000
END:STANDARD
BEGIN:DAYLIGHT
TZOFFSETFROM:-0500
TZOFFSETTO:-0400
TZNAME:EDT
DTSTART:20250309T070000
END:DAYLIGHT
BEGIN:STANDARD
TZOFFSETFROM:-0400
TZOFFSETTO:-0500
TZNAME:EST
DTSTART:20251102T060000
END:STANDARD
BEGIN:DAYLIGHT
TZOFFSETFROM:-0500
TZOFFSETTO:-0400
TZNAME:EDT
DTSTART:20260308T070000
END:DAYLIGHT
BEGIN:STANDARD
TZOFFSETFROM:-0400
TZOFFSETTO:-0500
TZNAME:EST
DTSTART:20261101T060000
END:STANDARD
END:VTIMEZONE
BEGIN:VEVENT
DTSTART;TZID=America/New_York:20250812T080000
DTEND;TZID=America/New_York:20250812T170000
DTSTAMP:20260422T000208
CREATED:20250702T165459Z
LAST-MODIFIED:20250702T165459Z
UID:10000040-1754985600-1755018000@staging.insideandoutupstateny.com
SUMMARY:Another Test Event
DESCRIPTION:Be sure to have your pages set up with the latest design and development standards. That means using an HTML5 doctype and including a viewport meta tag for proper responsive behaviors. Put it all together and your pages should look like this:
URL:https://staging.insideandoutupstateny.com/event/another-test-event/
LOCATION:Bearsville Theater\, 291 Tinker Street\, Woodstock\, NY\, 12498\, United States
CATEGORIES:Food + Drink
ATTACH;FMTTYPE=image/jpeg:https://mc-insideout.nyc3.cdn.digitaloceanspaces.com/2025/07/IMG_7652.jpg
ORGANIZER;CN="Bearsville Group TEST":MAILTO:infro@bearsvillelane.gmail
END:VEVENT
BEGIN:VEVENT
DTSTART;TZID=America/New_York:20250814T080000
DTEND;TZID=America/New_York:20250814T170000
DTSTAMP:20260422T000208
CREATED:20250702T171655Z
LAST-MODIFIED:20250702T171655Z
UID:10000042-1755158400-1755190800@staging.insideandoutupstateny.com
SUMMARY:Uhhh\, another test for event
DESCRIPTION:Be sure to have your pages set up with the latest design and development standards. That means using an HTML5 doctype and including a viewport meta tag for proper responsive behaviors. Put it all together and your pages should look like this:
URL:https://staging.insideandoutupstateny.com/event/uhhh-another-test-for-event/
LOCATION:Bearsville Theater\, 291 Tinker Street\, Woodstock\, NY\, 12498\, United States
CATEGORIES:Flea + Makers Markets,Food + Drink
ATTACH;FMTTYPE=image/jpeg:https://mc-insideout.nyc3.cdn.digitaloceanspaces.com/2025/07/IMG_0534_-1.jpg
ORGANIZER;CN="Bearsville Group TEST":MAILTO:infro@bearsvillelane.gmail
END:VEVENT
END:VCALENDAR