BEGIN:VCALENDAR
VERSION:2.0
PRODID:-//Inside + Out Upstate NY - ECPv6.15.18//NONSGML v1.0//EN
CALSCALE:GREGORIAN
METHOD:PUBLISH
X-ORIGINAL-URL:https://staging.insideandoutupstateny.com
X-WR-CALDESC:Events for Inside + Out Upstate NY
REFRESH-INTERVAL;VALUE=DURATION:PT1H
X-Robots-Tag:noindex
X-PUBLISHED-TTL:PT1H
BEGIN:VTIMEZONE
TZID:America/New_York
BEGIN:DAYLIGHT
TZOFFSETFROM:-0500
TZOFFSETTO:-0400
TZNAME:EDT
DTSTART:20240310T070000
END:DAYLIGHT
BEGIN:STANDARD
TZOFFSETFROM:-0400
TZOFFSETTO:-0500
TZNAME:EST
DTSTART:20241103T060000
END:STANDARD
BEGIN:DAYLIGHT
TZOFFSETFROM:-0500
TZOFFSETTO:-0400
TZNAME:EDT
DTSTART:20250309T070000
END:DAYLIGHT
BEGIN:STANDARD
TZOFFSETFROM:-0400
TZOFFSETTO:-0500
TZNAME:EST
DTSTART:20251102T060000
END:STANDARD
BEGIN:DAYLIGHT
TZOFFSETFROM:-0500
TZOFFSETTO:-0400
TZNAME:EDT
DTSTART:20260308T070000
END:DAYLIGHT
BEGIN:STANDARD
TZOFFSETFROM:-0400
TZOFFSETTO:-0500
TZNAME:EST
DTSTART:20261101T060000
END:STANDARD
END:VTIMEZONE
BEGIN:VEVENT
DTSTART;TZID=America/New_York:20250701T080000
DTEND;TZID=America/New_York:20250701T170000
DTSTAMP:20260420T152850
CREATED:20250701T135051Z
LAST-MODIFIED:20250701T135051Z
UID:10000030-1751356800-1751389200@staging.insideandoutupstateny.com
SUMMARY:test event
DESCRIPTION:test eventtest eventtest eventtest event
URL:https://staging.insideandoutupstateny.com/event/test-event/
CATEGORIES:Festivals
ATTACH;FMTTYPE=image/jpeg:https://mc-insideout.nyc3.cdn.digitaloceanspaces.com/2025/07/edgar-castrejon-1SPu0KT-Ejg-unsplash-6.jpg
END:VEVENT
BEGIN:VEVENT
DTSTART;TZID=America/New_York:20250704T000000
DTEND;TZID=America/New_York:20250704T235959
DTSTAMP:20260420T152850
CREATED:20250703T171653Z
LAST-MODIFIED:20250703T171653Z
UID:10000048-1751587200-1751673599@staging.insideandoutupstateny.com
SUMMARY:Some Event again
DESCRIPTION:This is again some event
URL:https://staging.insideandoutupstateny.com/event/some-event-again/
LOCATION:Bearsville Theater\, 291 Tinker Street\, Woodstock\, NY\, 12498\, United States
CATEGORIES:Festivals
ATTACH;FMTTYPE=image/png:https://mc-insideout.nyc3.cdn.digitaloceanspaces.com/2025/07/800x800-2.png
ORGANIZER;CN="Bearsville Group TEST":MAILTO:infro@bearsvillelane.gmail
END:VEVENT
END:VCALENDAR